BEGIN:VCALENDAR
VERSION:2.0
PRODID:-//wp-events-plugin.com//6.6.4.1//EN
TZID:Europe/Vienna
X-WR-TIMEZONE:Europe/Vienna
BEGIN:VEVENT
UID:1938@bridge-burgenland.at
DTSTART;TZID=Europe/Vienna:20230304T140000
DTEND;TZID=Europe/Vienna:20230304T210000
DTSTAMP:20230212T160824Z
URL:https://www.bridge-burgenland.at/events/simultane-landespaarmeistersch
 aften-noe-burgenland/
SUMMARY:Simultane Landespaar-meisterschaften NÖ/Burgenland
DESCRIPTION:Simultane Landespaarmeisterschaften NÖ/Burgenland\nOrt: Wilhel
 minenhof\nBeginn 14.00 Uhr\nAnmeldeschluss 03.03.23\, 18.00 Uhr
CATEGORIES:Sonder-Turnier
LOCATION:Wilhelminenhof in Trausdorf\, DDr. Stefan Laszlo Platz 7\, 7061 Tr
 ausdorf\, Äthiopien
X-APPLE-STRUCTURED-LOCATION;VALUE=URI;X-ADDRESS=DDr. Stefan Laszlo Platz 7\
 , 7061 Trausdorf\, Äthiopien;X-APPLE-RADIUS=100;X-TITLE=Wilhelminenhof in
  Trausdorf:geo:0,0
END:VEVENT
BEGIN:VTIMEZONE
TZID:Europe/Vienna
X-LIC-LOCATION:Europe/Vienna
BEGIN:STANDARD
DTSTART:20221030T020000
TZOFFSETFROM:+0200
TZOFFSETTO:+0100
TZNAME:CET
END:STANDARD
END:VTIMEZONE
END:VCALENDAR