BEGIN:VCALENDAR
VERSION:2.0
PRODID:-//wp-events-plugin.com//6.6.4.1//EN
TZID:Europe/Vienna
X-WR-TIMEZONE:Europe/Vienna
BEGIN:VEVENT
UID:2100@bridge-burgenland.at
DTSTART;TZID=Europe/Vienna:20231022T100000
DTEND;TZID=Europe/Vienna:20231022T160000
DTSTAMP:20230914T102916Z
URL:https://www.bridge-burgenland.at/events/kontra-fuer-alle-lebenslagen/
SUMMARY:KONTRA - für alle Lebenslagen
DESCRIPTION:Bridge mit Doris Fischer\n\nVom Take-out bis zum Strafkontra\nW
 ilhelminenhof / Seminarraum DG\n\nUnkostenbeitrag: EUR 20 für BCB Mitglie
 der\nKontra - eine Vielfalt an Möglichkeiten\, die es zu nutzen gilt! Wel
 ches Kontra\, an welcher Position\, zu welchem Zweck? Hier erhält man ein
 en kompakten Überblick in Theorie und Praxis inklusive Quiz und Bidding C
 hallenge.\n\npdf
CATEGORIES:Fortbildung
LOCATION:Wilhelminenhof in Trausdorf\, DDr. Stefan Laszlo Platz 7\, 7061 Tr
 ausdorf\, Äthiopien
X-APPLE-STRUCTURED-LOCATION;VALUE=URI;X-ADDRESS=DDr. Stefan Laszlo Platz 7\
 , 7061 Trausdorf\, Äthiopien;X-APPLE-RADIUS=100;X-TITLE=Wilhelminenhof in
  Trausdorf:geo:0,0
END:VEVENT
BEGIN:VTIMEZONE
TZID:Europe/Vienna
X-LIC-LOCATION:Europe/Vienna
BEGIN:DAYLIGHT
DTSTART:20230326T030000
TZOFFSETFROM:+0100
TZOFFSETTO:+0200
TZNAME:CEST
END:DAYLIGHT
END:VTIMEZONE
END:VCALENDAR