BEGIN:VCALENDAR
VERSION:2.0
PRODID:-//wp-events-plugin.com//6.6.4.1//EN
TZID:Europe/Vienna
X-WR-TIMEZONE:Europe/Vienna
BEGIN:VEVENT
UID:3074@bridge-burgenland.at
DTSTART;TZID=Europe/Vienna:20260401T180000
DTEND;TZID=Europe/Vienna:20260401T230000
DTSTAMP:20260305T113558Z
URL:https://www.bridge-burgenland.at/events/haus-turnier-15-2026-04-01/
SUMMARY:Haus-Turnier
DESCRIPTION:wöchentliches Turnier\nAnmeldung vor Ort möglich bis 1/2 Stun
 de vor Turnierbeginn
CATEGORIES:Haus-Turnier 2
LOCATION:Hotel Neufeldersee\, Eisenstädter Straße 35\, 2491 Neufeld an de
 r Leitha\, Burgenland\, 2491\, Österreich
X-APPLE-STRUCTURED-LOCATION;VALUE=URI;X-ADDRESS=Eisenstädter Straße 35\, 
 2491 Neufeld an der Leitha\, Burgenland\, 2491\, Österreich;X-APPLE-RADIU
 S=100;X-TITLE=Hotel Neufeldersee:geo:0,0
END:VEVENT
BEGIN:VTIMEZONE
TZID:Europe/Vienna
X-LIC-LOCATION:Europe/Vienna
BEGIN:DAYLIGHT
DTSTART:20260329T030000
TZOFFSETFROM:+0100
TZOFFSETTO:+0200
TZNAME:CEST
END:DAYLIGHT
END:VTIMEZONE
END:VCALENDAR