BEGIN:VCALENDAR
VERSION:2.0
PRODID:-//wp-events-plugin.com//6.6.4.1//EN
TZID:Europe/Vienna
X-WR-TIMEZONE:Europe/Vienna
BEGIN:VEVENT
UID:2674@bridge-burgenland.at
DTSTART;TZID=Europe/Vienna:20250917T170000
DTEND;TZID=Europe/Vienna:20250917T220000
DTSTAMP:20250915T090714Z
URL:https://www.bridge-burgenland.at/events/haus-turnier-13-2025-09-17/
SUMMARY:Jubiläumsturnier
DESCRIPTION:JUBILÄUMSTURNIER\n40 Jahre Bridge Club Burgenland\nim Wilhelmi
 nenhof in Trausdorf\nAnmeldung per Mail oder telefonisch
CATEGORIES:Haus-Turnier,Sonder-Turnier
LOCATION:Wilhelminenhof in Trausdorf\, DDr. Stefan Laszlo Platz 7\, 7061 Tr
 ausdorf\, Äthiopien
X-APPLE-STRUCTURED-LOCATION;VALUE=URI;X-ADDRESS=DDr. Stefan Laszlo Platz 7\
 , 7061 Trausdorf\, Äthiopien;X-APPLE-RADIUS=100;X-TITLE=Wilhelminenhof in
  Trausdorf:geo:0,0
END:VEVENT
BEGIN:VTIMEZONE
TZID:Europe/Vienna
X-LIC-LOCATION:Europe/Vienna
BEGIN:DAYLIGHT
DTSTART:20250330T030000
TZOFFSETFROM:+0100
TZOFFSETTO:+0200
TZNAME:CEST
END:DAYLIGHT
END:VTIMEZONE
END:VCALENDAR