BEGIN:VCALENDAR
VERSION:2.0
PRODID:-//wp-events-plugin.com//6.6.4.1//EN
TZID:Europe/Vienna
X-WR-TIMEZONE:Europe/Vienna
BEGIN:VEVENT
UID:2756@bridge-burgenland.at
DTSTART;TZID=Europe/Vienna:20251005T140000
DTEND;TZID=Europe/Vienna:20251005T190000
DTSTAMP:20251005T081053Z
URL:https://www.bridge-burgenland.at/events/christian-bernscherer-benefiz-
 turnier-3/
SUMMARY:Christian-Bernscherer-Benefiz-Turnier
DESCRIPTION:Österreichweites Simultanturnier in Clubs unter der Patronanz 
 des ÖBV \n\nBeginn: 14.00 Uhr\nOrt: BC Burgenland\, Hotel Wilhelminenhof\
 n7061 Trausdorf\, DDr. Stefan Laszlo Platz 7\nModus: Paarturnier in 2 Durc
 hgängen über mindestens 28 Boards\nAnmeldeschluss: 5.Oktober\, 10.00 Uhr
 \nTurnierleitung: DI. Klaus Köpplinger\nMeisterpunkte: Lokale Meisterpunk
 te und zusätzlich MP für die Gesamtwertung laut Tabelle MPO des ÖBV\n\n
 weitere Informationen [pdf]
CATEGORIES:Sonder-Turnier
LOCATION:Wilhelminenhof in Trausdorf\, DDr. Stefan Laszlo Platz 7\, 7061 Tr
 ausdorf\, Äthiopien
X-APPLE-STRUCTURED-LOCATION;VALUE=URI;X-ADDRESS=DDr. Stefan Laszlo Platz 7\
 , 7061 Trausdorf\, Äthiopien;X-APPLE-RADIUS=100;X-TITLE=Wilhelminenhof in
  Trausdorf:geo:0,0
END:VEVENT
BEGIN:VTIMEZONE
TZID:Europe/Vienna
X-LIC-LOCATION:Europe/Vienna
BEGIN:DAYLIGHT
DTSTART:20250330T030000
TZOFFSETFROM:+0100
TZOFFSETTO:+0200
TZNAME:CEST
END:DAYLIGHT
END:VTIMEZONE
END:VCALENDAR