BEGIN:VCALENDAR
VERSION:2.0
PRODID:-//wp-events-plugin.com//6.6.4.1//EN
TZID:Europe/Vienna
X-WR-TIMEZONE:Europe/Vienna
BEGIN:VEVENT
UID:2374@bridge-burgenland.at
DTSTART;TZID=Europe/Vienna:20240302T140000
DTEND;TZID=Europe/Vienna:20240302T210000
DTSTAMP:20240219T152046Z
URL:https://www.bridge-burgenland.at/events/burgenlaendische-paarmeistersc
 haft-2024/
SUMMARY:Burgenländische Paarmeisterschaft 2024
DESCRIPTION:Burgenländische Paarmeisterschaft 2024 Burgenland\nModus: Paar
 turnier\, Meisterpunkte nach Tabelle\nOrt: Hotel Wilhelminenhof\nBeginn: 1
 4.00 Uhr\nAnmeldeschluss: Fr. 01.03.2024\, 18.00 Uhr
CATEGORIES:Sonder-Turnier
LOCATION:Wilhelminenhof in Trausdorf\, DDr. Stefan Laszlo Platz 7\, 7061 Tr
 ausdorf\, Äthiopien
X-APPLE-STRUCTURED-LOCATION;VALUE=URI;X-ADDRESS=DDr. Stefan Laszlo Platz 7\
 , 7061 Trausdorf\, Äthiopien;X-APPLE-RADIUS=100;X-TITLE=Wilhelminenhof in
  Trausdorf:geo:0,0
END:VEVENT
BEGIN:VTIMEZONE
TZID:Europe/Vienna
X-LIC-LOCATION:Europe/Vienna
BEGIN:STANDARD
DTSTART:20231029T020000
TZOFFSETFROM:+0200
TZOFFSETTO:+0100
TZNAME:CET
END:STANDARD
END:VTIMEZONE
END:VCALENDAR